BEGIN:VCALENDAR
VERSION:2.0
PRODID:-//Orange County Artists Guild - ECPv6.15.18//NONSGML v1.0//EN
CALSCALE:GREGORIAN
METHOD:PUBLISH
X-ORIGINAL-URL:https://www.ocagnc.org
X-WR-CALDESC:Events for Orange County Artists Guild
REFRESH-INTERVAL;VALUE=DURATION:PT1H
X-Robots-Tag:noindex
X-PUBLISHED-TTL:PT1H
BEGIN:VTIMEZONE
TZID:America/New_York
BEGIN:DAYLIGHT
TZOFFSETFROM:-0500
TZOFFSETTO:-0400
TZNAME:EDT
DTSTART:20240310T070000
END:DAYLIGHT
BEGIN:STANDARD
TZOFFSETFROM:-0400
TZOFFSETTO:-0500
TZNAME:EST
DTSTART:20241103T060000
END:STANDARD
BEGIN:DAYLIGHT
TZOFFSETFROM:-0500
TZOFFSETTO:-0400
TZNAME:EDT
DTSTART:20250309T070000
END:DAYLIGHT
BEGIN:STANDARD
TZOFFSETFROM:-0400
TZOFFSETTO:-0500
TZNAME:EST
DTSTART:20251102T060000
END:STANDARD
BEGIN:DAYLIGHT
TZOFFSETFROM:-0500
TZOFFSETTO:-0400
TZNAME:EDT
DTSTART:20260308T070000
END:DAYLIGHT
BEGIN:STANDARD
TZOFFSETFROM:-0400
TZOFFSETTO:-0500
TZNAME:EST
DTSTART:20261101T060000
END:STANDARD
END:VTIMEZONE
BEGIN:VEVENT
DTSTART;TZID=America/New_York:20250307T180000
DTEND;TZID=America/New_York:20250307T200000
DTSTAMP:20260422T174952
CREATED:20250202T214024Z
LAST-MODIFIED:20250306T165255Z
UID:35176-1741370400-1741377600@www.ocagnc.org
SUMMARY:Orange County Aritsts Guild Spring Show Opening Reception
DESCRIPTION:Orange County Artists Guild Spring Show Opening Reception with live music and light hors d’oeuvres. \nOn veiw: Feb 7 – Apr 30 \nPresented by Higgins & Myers
URL:https://www.ocagnc.org/event/orange-county-aritsts-guild-spring-show-opening-reception/
LOCATION:Higgins & Myers\, 1728 Fordham Blvd\, Ste 119\, Chapel Hill\, NC\, 27514\, United States
ATTACH;FMTTYPE=image/jpeg:https://www.ocagnc.org/wp-content/uploads/2025/02/Spring-Show-Featured.jpg
END:VEVENT
END:VCALENDAR