BEGIN:VCALENDAR
VERSION:2.0
PRODID:-//Orange County Artists Guild - ECPv6.15.18//NONSGML v1.0//EN
CALSCALE:GREGORIAN
METHOD:PUBLISH
X-WR-CALNAME:Orange County Artists Guild
X-ORIGINAL-URL:https://www.ocagnc.org
X-WR-CALDESC:Events for Orange County Artists Guild
REFRESH-INTERVAL;VALUE=DURATION:PT1H
X-Robots-Tag:noindex
X-PUBLISHED-TTL:PT1H
BEGIN:VTIMEZONE
TZID:America/New_York
BEGIN:DAYLIGHT
TZOFFSETFROM:-0500
TZOFFSETTO:-0400
TZNAME:EDT
DTSTART:20230312T070000
END:DAYLIGHT
BEGIN:STANDARD
TZOFFSETFROM:-0400
TZOFFSETTO:-0500
TZNAME:EST
DTSTART:20231105T060000
END:STANDARD
BEGIN:DAYLIGHT
TZOFFSETFROM:-0500
TZOFFSETTO:-0400
TZNAME:EDT
DTSTART:20240310T070000
END:DAYLIGHT
BEGIN:STANDARD
TZOFFSETFROM:-0400
TZOFFSETTO:-0500
TZNAME:EST
DTSTART:20241103T060000
END:STANDARD
BEGIN:DAYLIGHT
TZOFFSETFROM:-0500
TZOFFSETTO:-0400
TZNAME:EDT
DTSTART:20250309T070000
END:DAYLIGHT
BEGIN:STANDARD
TZOFFSETFROM:-0400
TZOFFSETTO:-0500
TZNAME:EST
DTSTART:20251102T060000
END:STANDARD
END:VTIMEZONE
BEGIN:VEVENT
DTSTART;TZID=America/New_York:20240112T180000
DTEND;TZID=America/New_York:20240112T210000
DTSTAMP:20260423T134025
CREATED:20240111T184429Z
LAST-MODIFIED:20240111T184429Z
UID:34916-1705082400-1705093200@www.ocagnc.org
SUMMARY:Lila  Bacon Show Opening at FRANK Gallery
DESCRIPTION:Please join me for the opening reception on January 12th from 6pm – 9pm at the FRANK Gallery\, 370 East Main Street\, #130 in Carrboro. The show runs through to February 17th. I have the honor of being one of their special guest artists. \nLooking forward to seeing you. If you would like to view more of my work my website is LilaBacon.com
URL:https://www.ocagnc.org/event/lila-bacon-show-opening-at-frank-gallery/
LOCATION:FRANK Gallery\, 370 E Main St\, Carrboro\, NC\, 27510\, United States
ATTACH;FMTTYPE=image/jpeg:https://www.ocagnc.org/wp-content/uploads/2024/01/Lila-Bacon-FRANK-Gallery-Featured.jpg
END:VEVENT
END:VCALENDAR