BEGIN:VCALENDAR
VERSION:2.0
PRODID:-//Orange County Artists Guild - ECPv6.15.18//NONSGML v1.0//EN
CALSCALE:GREGORIAN
METHOD:PUBLISH
X-WR-CALNAME:Orange County Artists Guild
X-ORIGINAL-URL:https://www.ocagnc.org
X-WR-CALDESC:Events for Orange County Artists Guild
REFRESH-INTERVAL;VALUE=DURATION:PT1H
X-Robots-Tag:noindex
X-PUBLISHED-TTL:PT1H
BEGIN:VTIMEZONE
TZID:America/New_York
BEGIN:DAYLIGHT
TZOFFSETFROM:-0500
TZOFFSETTO:-0400
TZNAME:EDT
DTSTART:20210314T070000
END:DAYLIGHT
BEGIN:STANDARD
TZOFFSETFROM:-0400
TZOFFSETTO:-0500
TZNAME:EST
DTSTART:20211107T060000
END:STANDARD
BEGIN:DAYLIGHT
TZOFFSETFROM:-0500
TZOFFSETTO:-0400
TZNAME:EDT
DTSTART:20220313T070000
END:DAYLIGHT
BEGIN:STANDARD
TZOFFSETFROM:-0400
TZOFFSETTO:-0500
TZNAME:EST
DTSTART:20221106T060000
END:STANDARD
BEGIN:DAYLIGHT
TZOFFSETFROM:-0500
TZOFFSETTO:-0400
TZNAME:EDT
DTSTART:20230312T070000
END:DAYLIGHT
BEGIN:STANDARD
TZOFFSETFROM:-0400
TZOFFSETTO:-0500
TZNAME:EST
DTSTART:20231105T060000
END:STANDARD
END:VTIMEZONE
BEGIN:VEVENT
DTSTART;TZID=America/New_York:20221022T100000
DTEND;TZID=America/New_York:20221023T170000
DTSTAMP:20260424T153406
CREATED:20220920T175544Z
LAST-MODIFIED:20220920T175544Z
UID:32817-1666432800-1666544400@www.ocagnc.org
SUMMARY:Alamance Artisans Art Extravaganza 2022
DESCRIPTION:After a 2-year hiatus\, art lovers are anticipating the return of Alamance Artisans’ Art Extravaganza the weekend of October 22–23\, 2022\, at the Vailtree Event and Conference Center in Haw River. Twenty-one artists will showcase and sell unique and wide-ranging works\, including paintings\, pastels\, pottery\, jewelry\, photography\, sculpture\, fiber\, mixed media\, and wood. The free indoor event offers unequaled gift solutions and irresistible artworks for one’s own home or office. The Vailtree\, 1567 Bakatsias Lane\, Haw River\, is conveniently located beside I-85/I-40 at exit #150\, between Mebane and Graham. Browse the hundreds of art choices\, enjoy artists’ demonstrations\, and enter a raffle for distinctive artworks. Bring family and friends and experience a day of arts and crafts. CDC COVID guidelines observed. Saturday 10 am–6 pm\, Sunday noon–5 pm.
URL:https://www.ocagnc.org/event/alamance-artisans-art-extravaganza-2022/
LOCATION:Vailtree Event Center\, 1567 Bakatsias Lane\, Haw River\, 27258
ATTACH;FMTTYPE=image/jpeg:https://www.ocagnc.org/wp-content/uploads/2022/09/Alamance-Artisans-Art-Extravaganza-2022-Featured.jpg
END:VEVENT
BEGIN:VEVENT
DTSTART;TZID=America/New_York:20221028T180000
DTEND;TZID=America/New_York:20221028T210000
DTSTAMP:20260424T153406
CREATED:20221027T213012Z
LAST-MODIFIED:20221027T213012Z
UID:33472-1666980000-1666990800@www.ocagnc.org
SUMMARY:Opening Reception\, Tour Preview Show
DESCRIPTION:
URL:https://www.ocagnc.org/event/opening-reception-tour-preview-show/
LOCATION:Hillsborough Gallery of Arts\, 121 N. Churton Street\, Hillsborough\, NC\, 27278\, United States
ATTACH;FMTTYPE=image/jpeg:https://www.ocagnc.org/wp-content/uploads/2022/09/OCAG-2022-Tour-Web-Banner-scaled.jpg
END:VEVENT
END:VCALENDAR