BEGIN:VCALENDAR
VERSION:2.0
PRODID:-//Orange County Artists Guild - ECPv6.15.18//NONSGML v1.0//EN
CALSCALE:GREGORIAN
METHOD:PUBLISH
X-ORIGINAL-URL:https://www.ocagnc.org
X-WR-CALDESC:Events for Orange County Artists Guild
REFRESH-INTERVAL;VALUE=DURATION:PT1H
X-Robots-Tag:noindex
X-PUBLISHED-TTL:PT1H
BEGIN:VTIMEZONE
TZID:America/New_York
BEGIN:DAYLIGHT
TZOFFSETFROM:-0500
TZOFFSETTO:-0400
TZNAME:EDT
DTSTART:20210314T070000
END:DAYLIGHT
BEGIN:STANDARD
TZOFFSETFROM:-0400
TZOFFSETTO:-0500
TZNAME:EST
DTSTART:20211107T060000
END:STANDARD
BEGIN:DAYLIGHT
TZOFFSETFROM:-0500
TZOFFSETTO:-0400
TZNAME:EDT
DTSTART:20220313T070000
END:DAYLIGHT
BEGIN:STANDARD
TZOFFSETFROM:-0400
TZOFFSETTO:-0500
TZNAME:EST
DTSTART:20221106T060000
END:STANDARD
BEGIN:DAYLIGHT
TZOFFSETFROM:-0500
TZOFFSETTO:-0400
TZNAME:EDT
DTSTART:20230312T070000
END:DAYLIGHT
BEGIN:STANDARD
TZOFFSETFROM:-0400
TZOFFSETTO:-0500
TZNAME:EST
DTSTART:20231105T060000
END:STANDARD
END:VTIMEZONE
BEGIN:VEVENT
DTSTART;VALUE=DATE:20220412
DTEND;VALUE=DATE:20220621
DTSTAMP:20260424T222224
CREATED:20220401T000324Z
LAST-MODIFIED:20220401T000337Z
UID:29701-1649721600-1655769599@www.ocagnc.org
SUMMARY:The Divine - Dreams of Disabled Gods\, by Samir Knego
DESCRIPTION:The Hillsborough Arts Council Gallery presents The Divine – dreams of disabled gods\, by Samir Knego. This show combines poetry and several visual art forms to explore disability and ableism through the language and imagery of religion. \nA reception will be held on May 27th from 6:00-9:00pm as part of the Last Friday Art Walk. \nDate and Time:\nApril 12th-June 20th \nGallery Hours:\nTuesdays-Sundays 12:00-4:00pm\nFriday-Saturday 11:00-7:00pm\nReception on May 27th from 6:00-9:00pm
URL:https://www.ocagnc.org/event/the-divine-dreams-of-disabled-gods-by-samir-knego/
LOCATION:Hillsborough Arts Council\, 102 North Churton Street\, Hillsborough\, NC\, 27278\, United States
ATTACH;FMTTYPE=image/jpeg:https://www.ocagnc.org/wp-content/uploads/2022/03/The-Divine-Featured.jpg
END:VEVENT
END:VCALENDAR