BEGIN:VCALENDAR
VERSION:2.0
PRODID:-//Orange County Artists Guild - ECPv6.15.18//NONSGML v1.0//EN
CALSCALE:GREGORIAN
METHOD:PUBLISH
X-WR-CALNAME:Orange County Artists Guild
X-ORIGINAL-URL:https://www.ocagnc.org
X-WR-CALDESC:Events for Orange County Artists Guild
REFRESH-INTERVAL;VALUE=DURATION:PT1H
X-Robots-Tag:noindex
X-PUBLISHED-TTL:PT1H
BEGIN:VTIMEZONE
TZID:America/New_York
BEGIN:DAYLIGHT
TZOFFSETFROM:-0500
TZOFFSETTO:-0400
TZNAME:EDT
DTSTART:20160313T070000
END:DAYLIGHT
BEGIN:STANDARD
TZOFFSETFROM:-0400
TZOFFSETTO:-0500
TZNAME:EST
DTSTART:20161106T060000
END:STANDARD
BEGIN:DAYLIGHT
TZOFFSETFROM:-0500
TZOFFSETTO:-0400
TZNAME:EDT
DTSTART:20170312T070000
END:DAYLIGHT
BEGIN:STANDARD
TZOFFSETFROM:-0400
TZOFFSETTO:-0500
TZNAME:EST
DTSTART:20171105T060000
END:STANDARD
BEGIN:DAYLIGHT
TZOFFSETFROM:-0500
TZOFFSETTO:-0400
TZNAME:EDT
DTSTART:20180311T070000
END:DAYLIGHT
BEGIN:STANDARD
TZOFFSETFROM:-0400
TZOFFSETTO:-0500
TZNAME:EST
DTSTART:20181104T060000
END:STANDARD
END:VTIMEZONE
BEGIN:VEVENT
DTSTART;VALUE=DATE:20171031
DTEND;VALUE=DATE:20171113
DTSTAMP:20260424T084147
CREATED:20171008T024506Z
LAST-MODIFIED:20171008T030531Z
UID:4602-1509408000-1510531199@www.ocagnc.org
SUMMARY:OCAG Open Studio Tour Exhibition – FRANK Gallery
DESCRIPTION:OCAG Open Studio Tour Exhibition of Participating Artists. FRANK Gallery\, 109 E. Franklin Street\, Chapel Hill\, NC.  \nGallery Hours:\nWednesday-Thursday: 12:00-5:00 pm\nFriday-Saturday: 10:00-5:00 pm\nSunday: 12:00-5:00 pm
URL:https://www.ocagnc.org/event/ocag-open-studio-tour-exhibition-frank-gallery/
LOCATION:FRANK Gallery\, 370 E Main St\, Carrboro\, NC\, 27510\, United States
ATTACH;FMTTYPE=image/jpeg:https://www.ocagnc.org/wp-content/uploads/2017/10/OCAG-Open-Studio-Tour-Exhibition-Hero.jpg
END:VEVENT
BEGIN:VEVENT
DTSTART;TZID=America/New_York:20171027T180000
DTEND;TZID=America/New_York:20171027T210000
DTSTAMP:20260424T084147
CREATED:20171008T025500Z
LAST-MODIFIED:20171008T030355Z
UID:4621-1509127200-1509138000@www.ocagnc.org
SUMMARY:OCAG Open Studio Tour Opening Reception
DESCRIPTION:Opening Reception of OCAG Open Studio Tour Exhibition\, 6:00-9:00 pm. Hillsborough Gallery of Arts\, 121 N. Churton Street\, Hillsborough\, NC\, 919-732-5001. \nGallery Hours:\nMondays-Thursdays: 10:00-6:00 pm\nFridays-Saturdays: 10:00-8:00 pm\nSundays: 11:00-6:00 pm
URL:https://www.ocagnc.org/event/ocag-open-studio-tour-opening-reception/
LOCATION:Hillsborough Gallery of Arts\, 121 N. Churton Street\, Hillsborough\, NC\, 27278\, United States
ATTACH;FMTTYPE=image/jpeg:https://www.ocagnc.org/wp-content/uploads/2017/10/OCAG-Open-Studio-Tour-Exhibition-Opening-Reception-Hero.jpg
END:VEVENT
BEGIN:VEVENT
DTSTART;VALUE=DATE:20171023
DTEND;VALUE=DATE:20171114
DTSTAMP:20260424T084147
CREATED:20171008T025036Z
LAST-MODIFIED:20171008T025036Z
UID:4619-1508716800-1510617599@www.ocagnc.org
SUMMARY:OCAG Open Studio Tour Exhibition - Hillsborough Gallery of Arts
DESCRIPTION:OCAG Open Studio Tour Exhibition of Participating Artists. Hillsborough Gallery of Arts\, 121 N. Churton Street\, Hillsborough\, NC.  \nGallery Hours:\nMondays-Thursdays: 10:00-6:00 pm\nFridays-Saturdays: 10:00-8:00 pm\nSundays: 12:00-4:00 pm
URL:https://www.ocagnc.org/event/ocag-open-studio-tour-exhibition-hillsborough-gallery-arts/
LOCATION:Hillsborough Gallery of Arts\, 121 N. Churton Street\, Hillsborough\, NC\, 27278\, United States
ATTACH;FMTTYPE=image/jpeg:https://www.ocagnc.org/wp-content/uploads/2017/10/OCAG-Open-Studio-Tour-Exhibition-Hero.jpg
END:VEVENT
BEGIN:VEVENT
DTSTART;TZID=America/New_York:20171021T193000
DTEND;TZID=America/New_York:20171021T213000
DTSTAMP:20260424T084147
CREATED:20171008T025832Z
LAST-MODIFIED:20171008T025832Z
UID:4623-1508614200-1508621400@www.ocagnc.org
SUMMARY:Visitations: A Community Response to Loss and Celebration
DESCRIPTION:An evening of music\, words\, and images featuring poet Jaki Shelton Green\, music by mahaloJazz with Alison Weiner\, Beverly Botsford\, Robbie Link\, Shana Tucker\, and photography by Barbara Tyroler.  \nCost: $25.00 \nFor tickets visit frankisart.com
URL:https://www.ocagnc.org/event/visitations-community-response-loss-celebration/
LOCATION:FRANK Gallery\, 370 E Main St\, Carrboro\, NC\, 27510\, United States
ATTACH;FMTTYPE=image/jpeg:https://www.ocagnc.org/wp-content/uploads/2017/10/Visitations-Community-Response-to-Loss-Celebration-Hero.jpg
END:VEVENT
BEGIN:VEVENT
DTSTART;VALUE=DATE:20170925
DTEND;VALUE=DATE:20171023
DTSTAMP:20260424T084147
CREATED:20171008T023716Z
LAST-MODIFIED:20171008T023716Z
UID:4596-1506297600-1508716799@www.ocagnc.org
SUMMARY:Beyond the Surface
DESCRIPTION:Paintings by Marcy Lansman and Pat Merriman\, carved wood by Larry Favorite. September 25 – October 22. Opening reception during Hillsborough’s Last Friday Art Walk\, September 29th 6-9pm. Founded in 2006\, the Hillsborough Gallery of Arts is owned & operated by 21 artists and features painting\, sculpture\, photography\, glass art\, jewelry\, wood\, pottery & fiber art. 121 N. Churton Street\, Hillsborough NC\, 919-732-5001. Hours: 10-6 Mon–Th\, 10-8 Fri & Sat\, 11-6 Sun.
URL:https://www.ocagnc.org/event/beyond-the-surface/
LOCATION:Hillsborough Gallery of Arts\, 121 N. Churton Street\, Hillsborough\, NC\, 27278\, United States
ATTACH;FMTTYPE=image/jpeg:https://www.ocagnc.org/wp-content/uploads/2017/10/Beyond-the-Surface-Hero.jpg
END:VEVENT
BEGIN:VEVENT
DTSTART;VALUE=DATE:20170908
DTEND;VALUE=DATE:20170909
DTSTAMP:20260424T084147
CREATED:20171008T024048Z
LAST-MODIFIED:20171008T024048Z
UID:4600-1504828800-1504915199@www.ocagnc.org
SUMMARY:FRANK Gallery Opening Reception
DESCRIPTION:Opening Reception and Celebration for “Systems & Cycles” featuring Shelly Hehenberger\, Luna Lee Ray\, with ceramic sculpture by Judith Ernst.
URL:https://www.ocagnc.org/event/frank-gallery-opening-reception/
LOCATION:FRANK Gallery\, 370 E Main St\, Carrboro\, NC\, 27510\, United States
ATTACH;FMTTYPE=image/jpeg:https://www.ocagnc.org/wp-content/uploads/2017/10/FRANK-Gallery-Opening-Reception-Hero.jpg
END:VEVENT
BEGIN:VEVENT
DTSTART;VALUE=DATE:20170905
DTEND;VALUE=DATE:20170908
DTSTAMP:20260424T084147
CREATED:20171008T023844Z
LAST-MODIFIED:20171008T023844Z
UID:4598-1504569600-1504828799@www.ocagnc.org
SUMMARY:Systems and Cycles
DESCRIPTION:Current show at FRANK Gallery in Chapel Hill. Featured artists: Peg Bachenheier\, Lynn Bregman Blass\, Mirinda Kossoff\, and Emily Lees. Introducing Austin Cathey.
URL:https://www.ocagnc.org/event/systems-and-cycles/
LOCATION:FRANK Gallery\, 370 E Main St\, Carrboro\, NC\, 27510\, United States
ATTACH;FMTTYPE=image/jpeg:https://www.ocagnc.org/wp-content/uploads/2017/10/Artist-Talk-Exhibition-Tour-Hero.jpg
END:VEVENT
BEGIN:VEVENT
DTSTART;TZID=America/New_York:20170831T180000
DTEND;TZID=America/New_York:20170831T200000
DTSTAMP:20260424T084147
CREATED:20171008T023532Z
LAST-MODIFIED:20171008T023532Z
UID:4593-1504202400-1504209600@www.ocagnc.org
SUMMARY:Artist Talk and Exhibition Tour
DESCRIPTION:Artist talk with artists from current show 9 August 8th – September 2nd). Artist talk and gallery tour from 6 – 8 pm.  Artists in current show include: Peg Bachenheimer\, Lynn Bregman Blass\, Mirinda Kossoff\, and Emily Lees.
URL:https://www.ocagnc.org/event/artist-talk-exhibition-tour/
LOCATION:FRANK Gallery\, 370 E Main St\, Carrboro\, NC\, 27510\, United States
ATTACH;FMTTYPE=image/jpeg:https://www.ocagnc.org/wp-content/uploads/2017/10/Artist-Talk-Exhibition-Tour-Hero.jpg
END:VEVENT
BEGIN:VEVENT
DTSTART;VALUE=DATE:20170821
DTEND;VALUE=DATE:20170925
DTSTAMP:20260424T084147
CREATED:20171007T224400Z
LAST-MODIFIED:20171008T014110Z
UID:4574-1503273600-1506297599@www.ocagnc.org
SUMMARY:Three Perspectives
DESCRIPTION:Photography by Eric Saunders\, Paintings by Lolette Guthrie\, blown glass by Pringle Teetor. Opening reception during Hillsborough’s Last Friday Art Walk\, August 25th 6-9pm. \nFounded in 2006\, the Hillsborough Gallery of Arts is owned & operated by 21 artists and features painting\, sculpture\, photography\, glass art\, jewelry\, wood\, pottery & fiber art.
URL:https://www.ocagnc.org/event/three-perspectives/
LOCATION:Hillsborough Gallery of Arts\, 121 N. Churton Street\, Hillsborough\, NC\, 27278\, United States
ATTACH;FMTTYPE=image/jpeg:https://www.ocagnc.org/wp-content/uploads/2017/10/Three-Perspectives.jpg
END:VEVENT
END:VCALENDAR