BEGIN:VCALENDAR
VERSION:2.0
PRODID:-//Orange County Artists Guild - ECPv6.15.18//NONSGML v1.0//EN
CALSCALE:GREGORIAN
METHOD:PUBLISH
X-WR-CALNAME:Orange County Artists Guild
X-ORIGINAL-URL:https://www.ocagnc.org
X-WR-CALDESC:Events for Orange County Artists Guild
REFRESH-INTERVAL;VALUE=DURATION:PT1H
X-Robots-Tag:noindex
X-PUBLISHED-TTL:PT1H
BEGIN:VTIMEZONE
TZID:America/New_York
BEGIN:DAYLIGHT
TZOFFSETFROM:-0500
TZOFFSETTO:-0400
TZNAME:EDT
DTSTART:20230312T070000
END:DAYLIGHT
BEGIN:STANDARD
TZOFFSETFROM:-0400
TZOFFSETTO:-0500
TZNAME:EST
DTSTART:20231105T060000
END:STANDARD
BEGIN:DAYLIGHT
TZOFFSETFROM:-0500
TZOFFSETTO:-0400
TZNAME:EDT
DTSTART:20240310T070000
END:DAYLIGHT
BEGIN:STANDARD
TZOFFSETFROM:-0400
TZOFFSETTO:-0500
TZNAME:EST
DTSTART:20241103T060000
END:STANDARD
BEGIN:DAYLIGHT
TZOFFSETFROM:-0500
TZOFFSETTO:-0400
TZNAME:EDT
DTSTART:20250309T070000
END:DAYLIGHT
BEGIN:STANDARD
TZOFFSETFROM:-0400
TZOFFSETTO:-0500
TZNAME:EST
DTSTART:20251102T060000
END:STANDARD
BEGIN:DAYLIGHT
TZOFFSETFROM:-0500
TZOFFSETTO:-0400
TZNAME:EDT
DTSTART:20260308T070000
END:DAYLIGHT
BEGIN:STANDARD
TZOFFSETFROM:-0400
TZOFFSETTO:-0500
TZNAME:EST
DTSTART:20261101T060000
END:STANDARD
END:VTIMEZONE
BEGIN:VEVENT
DTSTART;VALUE=DATE:20241025
DTEND;VALUE=DATE:20241109
DTSTAMP:20260423T063221
CREATED:20240910T125718Z
LAST-MODIFIED:20240910T125718Z
UID:35071-1729814400-1731110399@www.ocagnc.org
SUMMARY:Orange County Artists Guild Open Studio Tour Preview Show: Hillsborough Gallery of Arts
DESCRIPTION:2024 marks the 30th year for the Orange County Artists Guild’s Annual Open Studio Tour. During the first two weekends in November\, more than 100 artists located throughout Orange County will be participating in this juried event and opening their studios to visitors. OCAG’s Open Studio Tour is a rare opportunity for art lovers from Orange County and beyond to meet artists in their places of work\, to view and purchase art directly from the artists\, and in many instances to watch as artists demonstrate how they create their pieces. Studio Tour brochures and maps to the participants’ studios are available at the Hillsborough Gallery of Arts and other area locations or on the Guild website: http://www.ocagnc.org \nMany of the artists on the 2024 tour will have work in the OCAG Preview Exhibit at the Hillsborough Gallery of Arts\, from October 25th through November 8th. The preview show is a wonderful opportunity for a first look at the work on the tour and can help you plan your tour route. \nAn opening reception for the exhibit will be held on Friday\, October 25th from 6-9pm at the Hillsborough Gallery of Arts\, located in the Mercantile Building at 121 North Churton Street in historic downtown Hillsborough\, North Carolina. For more information visit the Gallery website: www.HillsboroughGallery.com. \nAbout the Gallery\nThe Hillsborough Gallery of Arts is owned and operated by 21 local artists and represents these established artists exhibiting contemporary fine art and fine craft. The Gallery’s offerings include watercolor\, acrylic and oil paintings\, sculpture\, ceramics\, photography\, digital art\, photomontage\, jewelry\, glass\, metals\, encaustic\, enamel\, and handcrafted furniture. Hours: Monday – Saturday 10-6\, Sunday 12-4.
URL:https://www.ocagnc.org/event/orange-county-artists-guild-open-studio-tour-preview-show-hillsborough-gallery-of-arts/
LOCATION:Hillsborough Gallery of Arts\, 121 N. Churton Street\, Hillsborough\, NC\, 27278\, United States
END:VEVENT
BEGIN:VEVENT
DTSTART;TZID=America/New_York:20250307T180000
DTEND;TZID=America/New_York:20250307T200000
DTSTAMP:20260423T063221
CREATED:20250202T214024Z
LAST-MODIFIED:20250306T165255Z
UID:35176-1741370400-1741377600@www.ocagnc.org
SUMMARY:Orange County Aritsts Guild Spring Show Opening Reception
DESCRIPTION:Orange County Artists Guild Spring Show Opening Reception with live music and light hors d’oeuvres. \nOn veiw: Feb 7 – Apr 30 \nPresented by Higgins & Myers
URL:https://www.ocagnc.org/event/orange-county-aritsts-guild-spring-show-opening-reception/
LOCATION:Higgins & Myers\, 1728 Fordham Blvd\, Ste 119\, Chapel Hill\, NC\, 27514\, United States
ATTACH;FMTTYPE=image/jpeg:https://www.ocagnc.org/wp-content/uploads/2025/02/Spring-Show-Featured.jpg
END:VEVENT
BEGIN:VEVENT
DTSTART;TZID=America/New_York:20250504T130000
DTEND;TZID=America/New_York:20250504T170000
DTSTAMP:20260423T063221
CREATED:20250306T170042Z
LAST-MODIFIED:20250306T170042Z
UID:34947-1746363600-1746378000@www.ocagnc.org
SUMMARY:2025 Carrboro Day Market Show
DESCRIPTION:Show Dates: Sunday\, May 4th\, 2025\nLocation: Carrboro Pavilion\nTime: 1:00-5:00
URL:https://www.ocagnc.org/event/2025-carrboro-day-market-show/
LOCATION:Carrboro Market Pavillion\, 301 W Main St\, Carrboro\, NC\, 27510\, United States
ATTACH;FMTTYPE=image/jpeg:https://www.ocagnc.org/wp-content/uploads/2025/03/Carrboro-Day-Market-Show-Featured.jpg
END:VEVENT
END:VCALENDAR